BEGIN:VCALENDAR
VERSION:2.0
PRODID:icalendar-ruby
CALSCALE:GREGORIAN
METHOD:PUBLISH
BEGIN:VEVENT
DTSTAMP:20260420T021352Z
UID:13-305829@ournorthside.com
DTSTART:20260507T220000Z
DTEND:20260507T233000Z
CLASS:PUBLIC
CREATED:20260419T092017
DESCRIPTION:All women are invited to join for dinner and DIY body scrubs! S
 ee the Nsider for more details and please sign up by Friday May 1st so sup
 plies can be purchased!
LAST-MODIFIED:20260419T092017
LOCATION:Northside Church of Christ
SUMMARY:WINGS - Dinner and DIY Body Scrubs
URL;VALUE=URI:https://www.ournorthside.com/events/wings-dinner-and-diy-body
 -scrubs/2026-05-07
ATTACH;FILENAME=women.png;FMTTYPE=image/png:https://dq5pwpg1q8ru0.cloudfron
 t.net/2025/02/23/14/27/39/26b97666-fe15-47da-8194-8a09684755f7/women.png
END:VEVENT
END:VCALENDAR
