BEGIN:VCALENDAR
VERSION:2.0
PRODID:icalendar-ruby
CALSCALE:GREGORIAN
METHOD:PUBLISH
BEGIN:VEVENT
DTSTAMP:20260423T163903Z
UID:6-311512@ournorthside.com
DTSTART:20261007T223000Z
DTEND:20261007T233000Z
CLASS:PUBLIC
CREATED:20260423T111310
DESCRIPTION:Classes for all ages available.\nCommons - all adults are invit
 ed to meet in the commons for a study on Heaven with Rodney Britt.\n 
LAST-MODIFIED:20260423T111310
LOCATION:
SUMMARY:Wednesday Bible Study
URL;VALUE=URI:https://www.ournorthside.com/events/wednesday-bible-study/202
 6-10-07
ATTACH;FILENAME=IMG_7024.JPG;FMTTYPE=image/jpeg:https://dq5pwpg1q8ru0.cloud
 front.net/2025/01/08/20/16/51/6a2fdd13-fcae-4740-a4e7-a67fa65edf52/IMG_702
 4.JPG
END:VEVENT
END:VCALENDAR
