BEGIN:VCALENDAR
VERSION:2.0
PRODID:icalendar-ruby
CALSCALE:GREGORIAN
METHOD:PUBLISH
BEGIN:VEVENT
DTSTAMP:20260422T003530Z
UID:7-309524@ournorthside.com
DTSTART:20261018T133000Z
DTEND:20261018T154500Z
CLASS:PUBLIC
CREATED:20260421T183425
DESCRIPTION:Classes for all ages available.\nAdult Class- Worship Center - 
 1st Corinthians - James Litsey\nAdult Class - Commons - Exodus - Steve Eld
 ridge\n 
LAST-MODIFIED:20260421T183425
LOCATION:
SUMMARY:Sunday Worship
URL;VALUE=URI:https://www.ournorthside.com/events/sunday-worship/2026-10-18
END:VEVENT
END:VCALENDAR
