BEGIN:VCALENDAR
VERSION:2.0
PRODID:icalendar-ruby
CALSCALE:GREGORIAN
METHOD:PUBLISH
BEGIN:VEVENT
DTSTAMP:20260421T181516Z
UID:7-309056@ournorthside.com
DTSTART:20260920T133000Z
DTEND:20260920T154500Z
CLASS:PUBLIC
CREATED:20260421T132011
DESCRIPTION:Classes for all ages available.\nAdult Class- Worship Center - 
 1st Corinthians - James Litsey\nAdult Class - Commons - Exodus - Steve Eld
 ridge\n 
LAST-MODIFIED:20260421T132011
LOCATION:
SUMMARY:Sunday Worship
URL;VALUE=URI:https://www.ournorthside.com/events/sunday-worship/2026-09-20
END:VEVENT
END:VCALENDAR
