BEGIN:VCALENDAR
VERSION:2.0
PRODID:icalendar-ruby
CALSCALE:GREGORIAN
METHOD:PUBLISH
BEGIN:VEVENT
DTSTAMP:20260420T021351Z
UID:9-305842@ournorthside.com
DTSTART:20260425T173000Z
DTEND:20260425T183000Z
CLASS:PUBLIC
CREATED:20260419T092050
DESCRIPTION:The community meal will be offered from 1:00pm - 2:30 pm with t
 he pantry box giveaway from 2:30pm - 4:30pm.  This event is open to all.
   Community members are not required to attend the meal to receive a box.
   Must be a Clark County Resident to receive a pantry box.  Community me
 als occur monthly.
LAST-MODIFIED:20260419T092050
LOCATION:
SUMMARY:Monthly Food Giveaway & Community Meal
URL;VALUE=URI:https://www.ournorthside.com/events/monthly-food-giveaway-com
 munity-meal/2026-04-25
ATTACH;FILENAME=food.png;FMTTYPE=image/png:https://dq5pwpg1q8ru0.cloudfront
 .net/2025/07/06/13/02/24/d2f38c44-9e18-4798-b5c5-7596eb93ced0/food.png
END:VEVENT
END:VCALENDAR
